BEGIN:VCALENDAR
METHOD:PUBLISH
VERSION:2.0
PRODID:-//Eventilla iCal Syndication//NONSGML Liana//EN
BEGIN:VEVENT
UID:Er8Gd@eventilla.com
DTSTAMP:20240519T063000Z
DTSTART:20240519T063000Z
DTEND:20240519T080000Z
SUMMARY:YO Dancical 2024《角 ‧ 渡》日場
DESCRIPTION:Event Information\nPerformance Date: 19 May 2024 (Sunday) Performance Time: 14:30Entry Time: 14:00Venue: Sha Tin Town Hall AuditoriumAddress: 1 Yuen Wo Road\, Sha Tin\, N.T. Hong Kong.\nTicket Reservation Information\nWhen reserving tickets\, please provide your name\, telephone number and email address. The system accepts multiple ticket reservations under the same name and contact details if reserving 2 or more tickets at once.\nFor organisations/ schools /centres wishing to apply for a total of more than 150 tickets\, please contact YO Fundraising and Communications Manager Joey Lau or Officer of Fundraising Serena Tam (Phone: 2513 0026\, Email: frcenquiry@yo.org.hk). \nTicket are available while stocks last.\nThis event uses a physical ticket distribution system by post. After successfully reserving tickets\, you will receive an email notification of your reservation from noreply@eventilla.com. The tickets will then be posted to you in early May and must be presented on the day for entry verification and validation. \nEach ticket is valid for a single entry only. A valid ticket must be presented for entry.\nImportant Notes\nAll bags and backpacks will be subject to checks before entering the venue.\nAll professional cameras\, recording and audio equipment\, alcohol\, food and drinks (mineral water in transparent bottles excluded)\, glass bottles and large umbrellas are prohibited from being brought into the performance space.\nEach attending student will receive one certificate of participation after the event\, which can be used for calculating learning/study hours.\nThe organiser reserves the right to accept or reject ticket reservations\, determine the number of complimentary tickets to be given\, and amend the event arrangements\, terms and conditions without prior notice. The organiser's decision is final.\nFor more information regarding event details and ticket arrangements\, please contact YO Fundraising and Communications Manager Joey Lau or Officer of Fundraising Serena Tam (Phone: 2513 0026\, Email: frcenquiry@yo.org.hk). 
LOCATION:Sha Tin Town Hall - Auditorium\, 1 Yuen Wo Road, Sha Tin, N.T.\,
 Hong Kong
URL:http://apps.yo.org.hk/yodancical2024
END:VEVENT
END:VCALENDAR
