BEGIN:VCALENDAR
METHOD:PUBLISH
VERSION:2.0
PRODID:-//Eventilla iCal Syndication//NONSGML Liana//EN
BEGIN:VEVENT
UID:Ly0e1@eventilla.com
DTSTAMP:20231022T110000Z
DTSTART:20231022T110000Z
DTEND:20231022T140000Z
SUMMARY:港摔 HKWF：C.N. Pro-Wrestling VS H.K. Pro-Wrestling
DESCRIPTION:\n節目資訊\n演出日期 Date: 22/10/2023演出時間 Entrance: 18:30\n場時間 On Show: 19:00演出地點 Venue: 蒲吧香港西灣河聖十字徑2號協青社賽馬會大樓 The Hang Out\, Jockey Club Building\, 2 Holy Cross Path\, Sai Wan Ho\, HK票       價 Ticket: HK$300 (不設劃位 Free seat)\n場館規定\n協青社範圍\n「無\n、無\n、無毒品」，而表演場館\n亦嚴禁飲食，如有違反，主辦方有權請\n離場，有關音樂節門票費用亦恕不退還。\n \n購票方式說明\n1. 以實名制形式發售。2. 每張門票\n須填寫\n場\n的中文或英文\n名(與身份證或\n遊護\n相同)，如同時購買多張門票，須填寫所有\n場\n的中文或英文\n名。3. 每張電子門票 QR Code只限一人\n場，持票\n需與\n場\n為同一人。4. 本活動採用\n電子門票形式，成功購買門票後，閣下會以電郵形式收到電子門票 QR Code，\n場時以手機出示 QR code，或直接列印 QR Code 作為\n場門票掃描及核對之用。5. 系統發送之 QR code 電子票券等同正式\n場門票，一個 QR Code 限一人使用，如閣下購買的是\n張門票，則會收到同等數量的 QR code。6. 請妥善保管 QR Code 票券，勿於網路分享出示避\n遭到盜用，以確保您的權益。7. 只接受信用卡 (VISA/MASTER) 付款。\n \n注意事\n\n1. 已售出門票恕不接受任何退票、退款或改名。購票前請詳閱注意事\n，一旦購票成功視為同意所有活動注意事\n及安排。2. 主辦方當日\n場前核對身份及電子門票後，會派發手帶予認可\n場人士，請妥善保存電子門票及手帶。3. 為\n延誤\n場，建議觀眾預留足夠時間完成場地登記程序。4. 如遇門票/手帶遺失或損毀，恕不補發，請務\n妥善保管好購買之門票及手帶，否則主辦方有權拒絕閣下進場，有關門票費用恕不退還。5. 場館有\n\n場規定，請持票觀眾務\n遵守主辦方及場館的各\n規定。如有干擾活動進行之行為，主辦方有權請\n離場。6. 活動相關訊息變動，主辦單位保留隨時變更或終止此活動之權利。7. 收益扣除開支，\n數撥捐協青社青少年發展用途。8. 如有關活動資訊及票務安排詳\n，請向協青社嘻哈學校查詢：dsenquiry@yo.org.hk。
LOCATION:香港西灣河聖十字徑2號協青社賽馬會大樓\, 香港
URL:http://apps.yo.org.hk/hkwf-cnpro-vs-hkpro
END:VEVENT
END:VCALENDAR
