BEGIN:VCALENDAR
METHOD:PUBLISH
VERSION:2.0
PRODID:-//Eventilla iCal Syndication//NONSGML Liana//EN
BEGIN:VEVENT
UID:opPd5@eventilla.com
DTSTAMP:20231106T120000Z
DTSTART:20231106T120000Z
DTEND:20231106T140000Z
SUMMARY:Clockenflap Presents: Kula Shaker\, Live in Hong Kong 2023
DESCRIPTION:\nClockenflap Presents: Kula Shaker\, Live in Hong Kong 2023\nProgram Information\nClockenflap Presents is thrilled to announce UK rockers Kula Shaker will play Hong Kong for one night only on Nov 6 at Hang Out\, Sai Wan Ho. Named after a 9th century South Indian King\, Kula Shaker meld psychedelic riffs & mantras with rock and roll mysticism. Their 1996 release ‘K’ was one of the fasting selling debut albums in UK chart history.\nDate: 6th November (MON)Time: 20:00Address: Hang Out\, Youth Outreach\, 2 Holy Cross Path\, Sai Wan HoTickets: HKD$560\nTicketing Info\n\nA maximum of 6 tickets are allowed to be purchased in each transaction.\nYou will be asked to insert your name\, email address and phone number when purchasing the tickets. You could insert the same details multiple times when purchasing more than 1 ticket.\nOnly credit card payment (VISA/MASTER) is accepted.\nUpon successfully purchasing the ticket(s)\, you will receive an email with your QR code ticket(s) send from noreply@eventilla.com. A valid ticket must be presented for admission.\nEach QR code ticket admits one person only.\n\nAdmission Notice\n\nSuitable for all ages\, ticket holder under 16 must be accompanied by an adult.\nBag searches will be conducted prior to entering the venue. Items such as professional cameras\, video/voice recorders\, alcohol\, food and drinks\, glass bottles\, and long umbrellas are not allowed in the event hall.\nThe Organiser reserves the right to alter or change the programme\, terms and conditions without prior notification.\nFor any event or ticketing related enquiries\, please email dsenquiry@yo.org.hk\n
LOCATION:Youth Outreach\, Youth Outreach Jockey Club Building, 2 Holy
 Cross Path, Sai Wan Ho, HK\, 香港
URL:http://apps.yo.org.hk/cpks
END:VEVENT
END:VCALENDAR
